BEGIN:VCALENDAR
VERSION:2.0
PRODID:-//FIRA - ECPv6.15.18//NONSGML v1.0//EN
CALSCALE:GREGORIAN
METHOD:PUBLISH
X-ORIGINAL-URL:https://fira.org.ar
X-WR-CALDESC:Eventos para FIRA
REFRESH-INTERVAL;VALUE=DURATION:PT1H
X-Robots-Tag:noindex
X-PUBLISHED-TTL:PT1H
BEGIN:VTIMEZONE
TZID:America/Sao_Paulo
BEGIN:STANDARD
TZOFFSETFROM:-0300
TZOFFSETTO:-0300
TZNAME:-03
DTSTART:20240101T000000
END:STANDARD
END:VTIMEZONE
BEGIN:VEVENT
DTSTART;VALUE=DATE:20251127
DTEND;VALUE=DATE:20251129
DTSTAMP:20260420T191454
CREATED:20250211T175856Z
LAST-MODIFIED:20250224T215017Z
UID:3837-1764201600-1764374399@fira.org.ar
SUMMARY:Reunión CABA\, Noviembre
DESCRIPTION:
URL:https://fira.org.ar/agenda/reunion-caba-noviembre/
LOCATION:CAME CABA\, Alem 452\, Buenos Aires\, Buenos Aires\, 1003\, Argentina
CATEGORIES:Reunion FIRA
ATTACH;FMTTYPE=image/webp:https://fira.org.ar/wp-content/uploads/2025/02/NOTA-WEB-3.webp
ORGANIZER;CN="FIRA":MAILTO:secretaria@fira.org.ar
END:VEVENT
END:VCALENDAR